Package: RNASeqPower Version: 1.42.0 Command: rm -rf RNASeqPower.buildbin-libdir && mkdir RNASeqPower.buildbin-libdir && /Users/biocbuild/BBS/utils/build-universal.sh RNASeqPower_1.42.0.tar.gz /Library/Frameworks/R.framework/Resources/bin/R RNASeqPower.buildbin-libdir StartedAt: 2024-04-16 12:35:54 -0400 (Tue, 16 Apr 2024) EndedAt: 2024-04-16 12:35:58 -0400 (Tue, 16 Apr 2024) EllapsedTime: 4.4 seconds RetCode: 0 Status: OK PackageFile: RNASeqPower_1.42.0.tgz PackageFileSize: 198.5 KiB