Package: RNASeqPower Version: 1.42.0 Command: /Library/Frameworks/R.framework/Resources/bin/R CMD build --keep-empty-dirs --no-resave-data RNASeqPower StartedAt: 2024-04-15 21:24:43 -0400 (Mon, 15 Apr 2024) EndedAt: 2024-04-15 21:24:54 -0400 (Mon, 15 Apr 2024) EllapsedTime: 11.1 seconds RetCode: 0 Status: OK PackageFile: RNASeqPower_1.42.0.tar.gz PackageFileSize: 191.1 KiB