Package: RNASeqPower Version: 1.42.0 Command: /Library/Frameworks/R.framework/Resources/bin/R CMD INSTALL RNASeqPower StartedAt: 2024-04-15 15:08:28 -0400 (Mon, 15 Apr 2024) EndedAt: 2024-04-15 15:08:46 -0400 (Mon, 15 Apr 2024) EllapsedTime: 18.0 seconds RetCode: 0 Status: OK