Package: RNAmodR.AlkAnilineSeq Version: 1.16.0 Command: /Library/Frameworks/R.framework/Resources/bin/R CMD INSTALL RNAmodR.AlkAnilineSeq StartedAt: 2024-04-15 15:55:52 -0400 (Mon, 15 Apr 2024) EndedAt: 2024-04-15 15:57:47 -0400 (Mon, 15 Apr 2024) EllapsedTime: 114.9 seconds RetCode: 0 Status: OK