Package: RNAsense Version: 1.16.0 Command: /Library/Frameworks/R.framework/Resources/bin/R CMD check --install=check:RNAsense.install-out.txt --library=/Library/Frameworks/R.framework/Resources/library --no-vignettes --timings RNAsense_1.16.0.tar.gz StartedAt: 2024-04-16 07:58:52 -0400 (Tue, 16 Apr 2024) EndedAt: 2024-04-16 08:23:35 -0400 (Tue, 16 Apr 2024) EllapsedTime: 1482.5 seconds RetCode: 0 Status: WARNINGS CheckDir: RNAsense.Rcheck Warnings: 1