Package: RNAsense Version: 1.16.0 Command: /Library/Frameworks/R.framework/Resources/bin/R CMD INSTALL RNAsense StartedAt: 2024-04-15 15:22:13 -0400 (Mon, 15 Apr 2024) EndedAt: 2024-04-15 15:23:08 -0400 (Mon, 15 Apr 2024) EllapsedTime: 54.2 seconds RetCode: 0 Status: OK