Package: ROSeq Version: 1.14.0 Command: /Library/Frameworks/R.framework/Resources/bin/R CMD build --keep-empty-dirs --no-resave-data ROSeq StartedAt: 2024-03-03 18:05:23 -0500 (Sun, 03 Mar 2024) EndedAt: 2024-03-03 18:08:36 -0500 (Sun, 03 Mar 2024) EllapsedTime: 193.0 seconds RetCode: 0 Status: OK PackageFile: ROSeq_1.14.0.tar.gz PackageFileSize: 4.19 MiB