Package: ROSeq Version: 1.14.0 Command: /Library/Frameworks/R.framework/Resources/bin/R CMD INSTALL ROSeq StartedAt: 2024-03-03 15:08:40 -0500 (Sun, 03 Mar 2024) EndedAt: 2024-03-03 15:08:58 -0500 (Sun, 03 Mar 2024) EllapsedTime: 18.1 seconds RetCode: 0 Status: OK