Package: ROSeq Version: 1.14.0 Command: /home/biocbuild/bbs-3.18-bioc/R/bin/R CMD INSTALL ROSeq StartedAt: 2024-04-15 15:11:24 -0400 (Mon, 15 Apr 2024) EndedAt: 2024-04-15 15:11:35 -0400 (Mon, 15 Apr 2024) EllapsedTime: 10.6 seconds RetCode: 0 Status: OK