Package: ROTS Version: 1.30.0 Command: /Library/Frameworks/R.framework/Resources/bin/R CMD build --keep-empty-dirs --no-resave-data ROTS StartedAt: 2024-04-15 21:26:50 -0400 (Mon, 15 Apr 2024) EndedAt: 2024-04-15 21:27:46 -0400 (Mon, 15 Apr 2024) EllapsedTime: 55.5 seconds RetCode: 0 Status: OK PackageFile: ROTS_1.30.0.tar.gz PackageFileSize: 454.7 KiB