Package: ROTS Version: 1.30.0 Command: /home/biocbuild/bbs-3.18-bioc/R/bin/R CMD build --keep-empty-dirs --no-resave-data ROTS StartedAt: 2024-04-15 18:56:55 -0400 (Mon, 15 Apr 2024) EndedAt: 2024-04-15 18:57:19 -0400 (Mon, 15 Apr 2024) EllapsedTime: 23.8 seconds RetCode: 0 Status: OK PackageFile: ROTS_1.30.0.tar.gz PackageFileSize: 344.5 KiB