Package: ROTS Version: 1.30.0 Command: chmod a+r ROTS -R && F:\biocbuild\bbs-3.18-bioc\R\bin\R.exe CMD build --keep-empty-dirs --no-resave-data ROTS StartedAt: 2024-04-15 20:48:32 -0400 (Mon, 15 Apr 2024) EndedAt: 2024-04-15 20:49:11 -0400 (Mon, 15 Apr 2024) EllapsedTime: 38.5 seconds RetCode: 0 Status: OK PackageFile: ROTS_1.30.0.tar.gz PackageFileSize: 347.5 KiB