Package: ROntoTools Version: 2.30.0 Maintainer: Sorin Draghici MaintainerEmail: sorin at advaitabio.com git_url: https://git.bioconductor.org/packages/ROntoTools git_branch: RELEASE_3_18 git_last_commit: 3529209 git_last_commit_date: 2023-10-24 09:53:31 -0400 (Tue, 24 Oct 2023)