Package: ROntoTools Version: 2.30.0 Command: rm -rf ROntoTools.buildbin-libdir && mkdir ROntoTools.buildbin-libdir && /Users/biocbuild/BBS/utils/build-universal.sh ROntoTools_2.30.0.tar.gz /Library/Frameworks/R.framework/Resources/bin/R ROntoTools.buildbin-libdir StartedAt: 2024-03-04 01:01:10 -0500 (Mon, 04 Mar 2024) EndedAt: 2024-03-04 01:01:30 -0500 (Mon, 04 Mar 2024) EllapsedTime: 20.4 seconds RetCode: 0 Status: OK PackageFile: ROntoTools_2.30.0.tgz PackageFileSize: 1.598 MiB