Package: ROntoTools Version: 2.30.0 Command: rm -rf ROntoTools.buildbin-libdir && mkdir ROntoTools.buildbin-libdir && /Users/biocbuild/BBS/utils/build-universal.sh ROntoTools_2.30.0.tar.gz /Library/Frameworks/R.framework/Resources/bin/R ROntoTools.buildbin-libdir StartedAt: 2024-04-16 12:36:27 -0400 (Tue, 16 Apr 2024) EndedAt: 2024-04-16 12:36:57 -0400 (Tue, 16 Apr 2024) EllapsedTime: 29.7 seconds RetCode: 0 Status: OK PackageFile: ROntoTools_2.30.0.tgz PackageFileSize: 1.598 MiB