Package: ROntoTools Version: 2.30.0 Command: /Library/Frameworks/R.framework/Resources/bin/R CMD build --keep-empty-dirs --no-resave-data ROntoTools StartedAt: 2024-04-15 21:26:21 -0400 (Mon, 15 Apr 2024) EndedAt: 2024-04-15 21:27:56 -0400 (Mon, 15 Apr 2024) EllapsedTime: 94.9 seconds RetCode: 0 Status: OK PackageFile: ROntoTools_2.30.0.tar.gz PackageFileSize: 1.486 MiB