Package: ROntoTools Version: 2.30.0 Command: /Library/Frameworks/R.framework/Resources/bin/R CMD check --install=check:ROntoTools.install-out.txt --library=/Library/Frameworks/R.framework/Resources/library --no-vignettes --timings ROntoTools_2.30.0.tar.gz StartedAt: 2024-04-16 08:04:30 -0400 (Tue, 16 Apr 2024) EndedAt: 2024-04-16 08:10:23 -0400 (Tue, 16 Apr 2024) EllapsedTime: 353.3 seconds RetCode: 0 Status: WARNINGS CheckDir: ROntoTools.Rcheck Warnings: 1