Package: RPA Version: 1.58.0 Command: /home/biocbuild/R/R-4.3.1/bin/R CMD INSTALL RPA StartedAt: 2023-11-01 20:49:32 -0000 (Wed, 01 Nov 2023) EndedAt: 2023-11-01 20:50:01 -0000 (Wed, 01 Nov 2023) EllapsedTime: 28.7 seconds RetCode: 0 Status: OK