Package: RPA Version: 1.58.0 Command: /Library/Frameworks/R.framework/Resources/bin/R CMD INSTALL RPA StartedAt: 2024-03-03 15:35:49 -0500 (Sun, 03 Mar 2024) EndedAt: 2024-03-03 15:36:20 -0500 (Sun, 03 Mar 2024) EllapsedTime: 30.9 seconds RetCode: 0 Status: OK