Package: RPA Version: 1.58.0 Command: /Library/Frameworks/R.framework/Resources/bin/R CMD INSTALL RPA StartedAt: 2024-04-15 16:16:59 -0400 (Mon, 15 Apr 2024) EndedAt: 2024-04-15 16:17:44 -0400 (Mon, 15 Apr 2024) EllapsedTime: 45.3 seconds RetCode: 0 Status: OK