Package: RPA Version: 1.58.0 Command: /home/biocbuild/bbs-3.18-bioc/R/bin/R CMD build --keep-empty-dirs --no-resave-data RPA StartedAt: 2024-04-15 18:56:58 -0400 (Mon, 15 Apr 2024) EndedAt: 2024-04-15 18:57:19 -0400 (Mon, 15 Apr 2024) EllapsedTime: 21.2 seconds RetCode: 0 Status: OK PackageFile: RPA_1.58.0.tar.gz PackageFileSize: 260.5 KiB