Package: RPA Version: 1.58.0 Command: /home/biocbuild/bbs-3.18-bioc/R/bin/R CMD check --install=check:RPA.install-out.txt --library=/home/biocbuild/bbs-3.18-bioc/R/site-library --timings RPA_1.58.0.tar.gz StartedAt: 2024-04-16 03:14:40 -0400 (Tue, 16 Apr 2024) EndedAt: 2024-04-16 03:17:04 -0400 (Tue, 16 Apr 2024) EllapsedTime: 144.9 seconds RetCode: 0 Status: OK CheckDir: RPA.Rcheck Warnings: 0