Package: RPA Version: 1.58.0 Command: rm -rf RPA.buildbin-libdir && mkdir RPA.buildbin-libdir && F:\biocbuild\bbs-3.18-bioc\R\bin\R.exe CMD INSTALL --build --library=RPA.buildbin-libdir RPA_1.58.0.tar.gz StartedAt: 2024-04-16 07:35:37 -0400 (Tue, 16 Apr 2024) EndedAt: 2024-04-16 07:36:09 -0400 (Tue, 16 Apr 2024) EllapsedTime: 31.7 seconds RetCode: 0 Status: OK PackageFile: RPA_1.58.0.zip PackageFileSize: 390.3 KiB