Package: RPA Version: 1.58.0 Command: chmod a+r RPA -R && F:\biocbuild\bbs-3.18-bioc\R\bin\R.exe CMD build --keep-empty-dirs --no-resave-data RPA StartedAt: 2024-04-15 20:48:35 -0400 (Mon, 15 Apr 2024) EndedAt: 2024-04-15 20:49:09 -0400 (Mon, 15 Apr 2024) EllapsedTime: 33.9 seconds RetCode: 0 Status: OK PackageFile: RPA_1.58.0.tar.gz PackageFileSize: 260.6 KiB