Package: RPA Version: 1.58.0 Command: F:\biocbuild\bbs-3.18-bioc\R\bin\R.exe CMD INSTALL RPA StartedAt: 2024-04-15 16:29:26 -0400 (Mon, 15 Apr 2024) EndedAt: 2024-04-15 16:29:59 -0400 (Mon, 15 Apr 2024) EllapsedTime: 33.3 seconds RetCode: 0 Status: OK