Package: RProtoBufLib Version: 2.14.1 Command: /Library/Frameworks/R.framework/Resources/bin/R CMD build --keep-empty-dirs --no-resave-data RProtoBufLib StartedAt: 2024-04-15 21:27:35 -0400 (Mon, 15 Apr 2024) EndedAt: 2024-04-15 21:37:33 -0400 (Mon, 15 Apr 2024) EllapsedTime: 598.5 seconds RetCode: 0 Status: OK PackageFile: RProtoBufLib_2.14.1.tar.gz PackageFileSize: 2.786 MiB