Package: RSVSim Version: 1.42.0 Command: /Library/Frameworks/R.framework/Resources/bin/R CMD INSTALL RSVSim StartedAt: 2024-03-03 15:24:29 -0500 (Sun, 03 Mar 2024) EndedAt: 2024-03-03 15:25:14 -0500 (Sun, 03 Mar 2024) EllapsedTime: 45.0 seconds RetCode: 0 Status: OK