Package: RTCGA Version: 1.32.0 Command: /home/biocbuild/R/R-4.3.1/bin/R CMD INSTALL RTCGA StartedAt: 2023-11-01 21:00:47 -0000 (Wed, 01 Nov 2023) EndedAt: 2023-11-01 21:01:00 -0000 (Wed, 01 Nov 2023) EllapsedTime: 13.9 seconds RetCode: 0 Status: OK