Package: RTCGA Version: 1.32.0 Command: /home/biocbuild/bbs-3.18-bioc/R/bin/R CMD INSTALL RTCGA StartedAt: 2024-04-15 15:47:43 -0400 (Mon, 15 Apr 2024) EndedAt: 2024-04-15 15:47:53 -0400 (Mon, 15 Apr 2024) EllapsedTime: 10.0 seconds RetCode: 0 Status: OK