Package: RTCGAToolbox Version: 2.32.1 Command: rm -rf RTCGAToolbox.buildbin-libdir && mkdir RTCGAToolbox.buildbin-libdir && /Users/biocbuild/BBS/utils/build-universal.sh RTCGAToolbox_2.32.1.tar.gz /Library/Frameworks/R.framework/Resources/bin/R RTCGAToolbox.buildbin-libdir StartedAt: 2024-04-16 12:37:28 -0400 (Tue, 16 Apr 2024) EndedAt: 2024-04-16 12:38:26 -0400 (Tue, 16 Apr 2024) EllapsedTime: 57.5 seconds RetCode: 0 Status: OK PackageFile: RTCGAToolbox_2.32.1.tgz PackageFileSize: 629.2 KiB