Package: RTCGAToolbox Version: 2.32.1 Command: chmod a+r RTCGAToolbox -R && F:\biocbuild\bbs-3.18-bioc\R\bin\R.exe CMD build --keep-empty-dirs --no-resave-data RTCGAToolbox StartedAt: 2024-04-15 20:49:54 -0400 (Mon, 15 Apr 2024) EndedAt: 2024-04-15 20:50:52 -0400 (Mon, 15 Apr 2024) EllapsedTime: 58.2 seconds RetCode: 0 Status: OK PackageFile: RTCGAToolbox_2.32.1.tar.gz PackageFileSize: 2.33 MiB