Package: RTNduals Version: 1.26.0 Command: /Library/Frameworks/R.framework/Resources/bin/R CMD build --keep-empty-dirs --no-resave-data RTNduals StartedAt: 2024-03-03 18:07:13 -0500 (Sun, 03 Mar 2024) EndedAt: 2024-03-03 18:08:50 -0500 (Sun, 03 Mar 2024) EllapsedTime: 96.9 seconds RetCode: 0 Status: OK PackageFile: RTNduals_1.26.0.tar.gz PackageFileSize: 584.4 KiB