Package: RTNduals Version: 1.26.0 Command: /Library/Frameworks/R.framework/Resources/bin/R CMD check --install=check:RTNduals.install-out.txt --library=/Library/Frameworks/R.framework/Resources/library --no-vignettes --timings RTNduals_1.26.0.tar.gz StartedAt: 2024-03-03 23:09:08 -0500 (Sun, 03 Mar 2024) EndedAt: 2024-03-03 23:16:32 -0500 (Sun, 03 Mar 2024) EllapsedTime: 444.0 seconds RetCode: 0 Status: OK CheckDir: RTNduals.Rcheck Warnings: 0