Package: RareVariantVis Version: 2.30.0 Command: /Library/Frameworks/R.framework/Resources/bin/R CMD check --install=check:RareVariantVis.install-out.txt --library=/Library/Frameworks/R.framework/Resources/library --no-vignettes --timings RareVariantVis_2.30.0.tar.gz StartedAt: 2024-03-03 22:49:17 -0500 (Sun, 03 Mar 2024) EndedAt: 2024-03-03 22:55:41 -0500 (Sun, 03 Mar 2024) EllapsedTime: 384.0 seconds RetCode: 0 Status: OK CheckDir: RareVariantVis.Rcheck Warnings: 0