Package: RbcBook1 Version: 1.70.0 Command: /home/biocbuild/bbs-3.18-bioc/R/bin/R CMD check --install=check:RbcBook1.install-out.txt --library=/home/biocbuild/bbs-3.18-bioc/R/site-library --timings RbcBook1_1.70.0.tar.gz StartedAt: 2024-04-16 02:44:39 -0400 (Tue, 16 Apr 2024) EndedAt: 2024-04-16 02:45:08 -0400 (Tue, 16 Apr 2024) EllapsedTime: 28.7 seconds RetCode: 0 Status: OK CheckDir: RbcBook1.Rcheck Warnings: 0