Package: Rbec Version: 1.10.0 Command: /home/biocbuild/R/R-4.3.1/bin/R CMD INSTALL Rbec StartedAt: 2023-11-01 20:36:06 -0000 (Wed, 01 Nov 2023) EndedAt: 2023-11-01 20:36:22 -0000 (Wed, 01 Nov 2023) EllapsedTime: 16.3 seconds RetCode: 1 Status: ERROR