Package: Rbec Version: 1.10.0 Command: /Library/Frameworks/R.framework/Resources/bin/R CMD INSTALL Rbec StartedAt: 2024-04-15 15:39:39 -0400 (Mon, 15 Apr 2024) EndedAt: 2024-04-15 15:41:07 -0400 (Mon, 15 Apr 2024) EllapsedTime: 88.1 seconds RetCode: 0 Status: OK