Package: Rbec Version: 1.10.0 Command: rm -rf Rbec.buildbin-libdir && mkdir Rbec.buildbin-libdir && F:\biocbuild\bbs-3.18-bioc\R\bin\R.exe CMD INSTALL --build --library=Rbec.buildbin-libdir Rbec_1.10.0.tar.gz StartedAt: 2024-04-16 07:30:31 -0400 (Tue, 16 Apr 2024) EndedAt: 2024-04-16 07:31:45 -0400 (Tue, 16 Apr 2024) EllapsedTime: 73.9 seconds RetCode: 0 Status: OK PackageFile: Rbec_1.10.0.zip PackageFileSize: 1.854 MiB