Package: Rbec Version: 1.10.0 Command: chmod a+r Rbec -R && F:\biocbuild\bbs-3.18-bioc\R\bin\R.exe CMD build --keep-empty-dirs --no-resave-data Rbec StartedAt: 2024-04-15 20:34:15 -0400 (Mon, 15 Apr 2024) EndedAt: 2024-04-15 20:35:59 -0400 (Mon, 15 Apr 2024) EllapsedTime: 103.7 seconds RetCode: 0 Status: OK PackageFile: Rbec_1.10.0.tar.gz PackageFileSize: 1.467 MiB