Package: RcisTarget Version: 1.22.0 Maintainer: Sara Aibar MaintainerEmail: sara.aibar at kuleuven.vib.be git_url: https://git.bioconductor.org/packages/RcisTarget git_branch: RELEASE_3_18 git_last_commit: 49974d1 git_last_commit_date: 2023-10-24 11:02:24 -0400 (Tue, 24 Oct 2023)