Package: Rcpi Version: 1.38.0 Command: /home/biocbuild/R/R-4.3.1/bin/R CMD build --keep-empty-dirs --no-resave-data Rcpi StartedAt: 2023-11-02 05:01:09 -0000 (Thu, 02 Nov 2023) EndedAt: 2023-11-02 05:01:35 -0000 (Thu, 02 Nov 2023) EllapsedTime: 26.0 seconds RetCode: 0 Status: OK PackageFile: Rcpi_1.38.0.tar.gz PackageFileSize: 3.095 MiB