Package: RcwlPipelines Version: 1.18.0 Command: /home/biocbuild/R/R-4.3.1/bin/R CMD INSTALL RcwlPipelines StartedAt: 2023-11-01 21:01:40 -0000 (Wed, 01 Nov 2023) EndedAt: 2023-11-01 21:02:00 -0000 (Wed, 01 Nov 2023) EllapsedTime: 19.9 seconds RetCode: 0 Status: OK