Package: RcwlPipelines Version: 1.18.1 Command: /Library/Frameworks/R.framework/Resources/bin/R CMD INSTALL RcwlPipelines StartedAt: 2024-04-15 16:36:54 -0400 (Mon, 15 Apr 2024) EndedAt: 2024-04-15 16:37:25 -0400 (Mon, 15 Apr 2024) EllapsedTime: 31.9 seconds RetCode: 0 Status: OK