Package: Rdisop Version: 1.62.0 Command: /home/biocbuild/R/R-4.3.1/bin/R CMD build --keep-empty-dirs --no-resave-data Rdisop StartedAt: 2023-11-02 05:02:26 -0000 (Thu, 02 Nov 2023) EndedAt: 2023-11-02 05:03:22 -0000 (Thu, 02 Nov 2023) EllapsedTime: 55.1 seconds RetCode: 0 Status: OK PackageFile: Rdisop_1.62.0.tar.gz PackageFileSize: 949.3 KiB