Package: Rdisop Version: 1.62.0 Command: /home/biocbuild/R/R-4.3.1/bin/R CMD check --install=check:Rdisop.install-out.txt --library=/home/biocbuild/R/R-4.3.1/site-library --no-vignettes --timings Rdisop_1.62.0.tar.gz StartedAt: 2023-11-02 13:31:50 -0000 (Thu, 02 Nov 2023) EndedAt: 2023-11-02 13:32:11 -0000 (Thu, 02 Nov 2023) EllapsedTime: 21.0 seconds RetCode: 0 Status: OK CheckDir: Rdisop.Rcheck Warnings: 0