Package: Rdisop Version: 1.62.0 Command: /Library/Frameworks/R.framework/Resources/bin/R CMD INSTALL Rdisop StartedAt: 2024-03-03 15:04:48 -0500 (Sun, 03 Mar 2024) EndedAt: 2024-03-03 15:05:23 -0500 (Sun, 03 Mar 2024) EllapsedTime: 35.6 seconds RetCode: 0 Status: OK