Package: Rdisop Version: 1.62.0 Command: F:\biocbuild\bbs-3.18-bioc\R\bin\R.exe CMD INSTALL Rdisop StartedAt: 2024-04-15 15:37:40 -0400 (Mon, 15 Apr 2024) EndedAt: 2024-04-15 15:38:26 -0400 (Mon, 15 Apr 2024) EllapsedTime: 46.7 seconds RetCode: 0 Status: OK