Package: ReactomeContentService4R Version: 1.10.0 Command: /Library/Frameworks/R.framework/Resources/bin/R CMD build --keep-empty-dirs --no-resave-data ReactomeContentService4R StartedAt: 2024-03-03 17:57:57 -0500 (Sun, 03 Mar 2024) EndedAt: 2024-03-03 17:58:58 -0500 (Sun, 03 Mar 2024) EllapsedTime: 61.2 seconds RetCode: 0 Status: OK PackageFile: ReactomeContentService4R_1.10.0.tar.gz PackageFileSize: 2.281 MiB