Package: ReactomeContentService4R Version: 1.10.0 Command: /home/biocbuild/bbs-3.18-bioc/R/bin/R CMD build --keep-empty-dirs --no-resave-data ReactomeContentService4R StartedAt: 2024-04-15 18:46:04 -0400 (Mon, 15 Apr 2024) EndedAt: 2024-04-15 18:47:13 -0400 (Mon, 15 Apr 2024) EllapsedTime: 68.8 seconds RetCode: 0 Status: OK PackageFile: ReactomeContentService4R_1.10.0.tar.gz PackageFileSize: 2.281 MiB