Package: ReadqPCR Version: 1.48.0 Command: /home/biocbuild/bbs-3.18-bioc/R/bin/R CMD INSTALL ReadqPCR StartedAt: 2024-04-15 15:07:30 -0400 (Mon, 15 Apr 2024) EndedAt: 2024-04-15 15:07:45 -0400 (Mon, 15 Apr 2024) EllapsedTime: 15.6 seconds RetCode: 0 Status: OK